BEGIN:VCALENDAR
VERSION:2.0
PRODID:http://www.kufer.de/kuferweb / DE
METHOD:PUBLISH
CALSCALE:GREGORIAN
X-WR-TIMEZONE:Europe/Berlin
BEGIN:VTIMEZONE
TZID:Europe/Berlin
X-LIC-LOCATION:Europe/Berlin
BEGIN:DAYLIGHT
TZOFFSETFROM:+0100
TZOFFSETTO:+0200
TZNAME:CEST
DTSTART;TZID=Europe/Berlin:19700329T020000
RRULE:FREQ=YEARLY;INTERVAL=1;BYDAY=-1SU;BYMONTH=3
END:DAYLIGHT
BEGIN:STANDARD
TZOFFSETFROM:+0200
TZOFFSETTO:+0100
TZNAME:CET
DTSTART;TZID=Europe/Berlin:19701025T030000
RRULE:FREQ=YEARLY;INTERVAL=1;BYDAY=-1SU;BYMONTH=10
END:STANDARD
END:VTIMEZONE
BEGIN:VEVENT
DTSTAMP:20260422T185803
DTSTART;TZID=Europe/Berlin:20260421T163000
DTEND;TZID=Europe/Berlin:20260421T180000
UID:Z33002-20260421T163000@VHSHOCKENHEIM
SUMMARY:Spanisch für den Urlaub - Einsteigerkurs (Z33002) 
LOCATION:Neues vhs Gebäude, Raum 1, EG, Arndtstr. 2/2, 68766 Hockenheim
END:VEVENT
BEGIN:VEVENT
DTSTAMP:20260422T185803
DTSTART;TZID=Europe/Berlin:20260428T163000
DTEND;TZID=Europe/Berlin:20260428T180000
UID:Z33002-20260428T163000@VHSHOCKENHEIM
SUMMARY:Spanisch für den Urlaub - Einsteigerkurs (Z33002) 
LOCATION:Neues vhs Gebäude, Raum 1, EG, Arndtstr. 2/2, 68766 Hockenheim
END:VEVENT
BEGIN:VEVENT
DTSTAMP:20260422T185803
DTSTART;TZID=Europe/Berlin:20260505T163000
DTEND;TZID=Europe/Berlin:20260505T180000
UID:Z33002-20260505T163000@VHSHOCKENHEIM
SUMMARY:Spanisch für den Urlaub - Einsteigerkurs (Z33002) 
LOCATION:Neues vhs Gebäude, Raum 1, EG, Arndtstr. 2/2, 68766 Hockenheim
END:VEVENT
BEGIN:VEVENT
DTSTAMP:20260422T185803
DTSTART;TZID=Europe/Berlin:20260519T163000
DTEND;TZID=Europe/Berlin:20260519T180000
UID:Z33002-20260519T163000@VHSHOCKENHEIM
SUMMARY:Spanisch für den Urlaub - Einsteigerkurs (Z33002) 
LOCATION:Neues vhs Gebäude, Raum 1, EG, Arndtstr. 2/2, 68766 Hockenheim
END:VEVENT
BEGIN:VEVENT
DTSTAMP:20260422T185803
DTSTART;TZID=Europe/Berlin:20260609T163000
DTEND;TZID=Europe/Berlin:20260609T180000
UID:Z33002-20260609T163000@VHSHOCKENHEIM
SUMMARY:Spanisch für den Urlaub - Einsteigerkurs (Z33002) 
LOCATION:Neues vhs Gebäude, Raum 1, EG, Arndtstr. 2/2, 68766 Hockenheim
END:VEVENT
BEGIN:VEVENT
DTSTAMP:20260422T185803
DTSTART;TZID=Europe/Berlin:20260616T163000
DTEND;TZID=Europe/Berlin:20260616T180000
UID:Z33002-20260616T163000@VHSHOCKENHEIM
SUMMARY:Spanisch für den Urlaub - Einsteigerkurs (Z33002) 
LOCATION:Neues vhs Gebäude, Raum 1, EG, Arndtstr. 2/2, 68766 Hockenheim
END:VEVENT
BEGIN:VEVENT
DTSTAMP:20260422T185803
DTSTART;TZID=Europe/Berlin:20260623T163000
DTEND;TZID=Europe/Berlin:20260623T180000
UID:Z33002-20260623T163000@VHSHOCKENHEIM
SUMMARY:Spanisch für den Urlaub - Einsteigerkurs (Z33002) 
LOCATION:Neues vhs Gebäude, Raum 1, EG, Arndtstr. 2/2, 68766 Hockenheim
END:VEVENT
BEGIN:VEVENT
DTSTAMP:20260422T185803
DTSTART;TZID=Europe/Berlin:20260630T163000
DTEND;TZID=Europe/Berlin:20260630T180000
UID:Z33002-20260630T163000@VHSHOCKENHEIM
SUMMARY:Spanisch für den Urlaub - Einsteigerkurs (Z33002) 
LOCATION:Neues vhs Gebäude, Raum 1, EG, Arndtstr. 2/2, 68766 Hockenheim
END:VEVENT
BEGIN:VEVENT
DTSTAMP:20260422T185803
DTSTART;TZID=Europe/Berlin:20260707T163000
DTEND;TZID=Europe/Berlin:20260707T180000
UID:Z33002-20260707T163000@VHSHOCKENHEIM
SUMMARY:Spanisch für den Urlaub - Einsteigerkurs (Z33002) 
LOCATION:Neues vhs Gebäude, Raum 1, EG, Arndtstr. 2/2, 68766 Hockenheim
END:VEVENT
BEGIN:VEVENT
DTSTAMP:20260422T185803
DTSTART;TZID=Europe/Berlin:20260714T163000
DTEND;TZID=Europe/Berlin:20260714T180000
UID:Z33002-20260714T163000@VHSHOCKENHEIM
DESCRIPTION:Ersatz für Ausfall am 14.04.2026
SUMMARY:Spanisch für den Urlaub - Einsteigerkurs (Z33002) 
LOCATION:Neues vhs Gebäude, Raum 1, EG, Arndtstr. 2/2, 68766 Hockenheim
END:VEVENT
END:VCALENDAR