BEGIN:VCALENDAR
VERSION:2.0
PRODID:http://www.kufer.de/kuferweb / DE
METHOD:PUBLISH
CALSCALE:GREGORIAN
X-WR-TIMEZONE:Europe/Berlin
BEGIN:VTIMEZONE
TZID:Europe/Berlin
X-LIC-LOCATION:Europe/Berlin
BEGIN:DAYLIGHT
TZOFFSETFROM:+0100
TZOFFSETTO:+0200
TZNAME:CEST
DTSTART;TZID=Europe/Berlin:19700329T020000
RRULE:FREQ=YEARLY;INTERVAL=1;BYDAY=-1SU;BYMONTH=3
END:DAYLIGHT
BEGIN:STANDARD
TZOFFSETFROM:+0200
TZOFFSETTO:+0100
TZNAME:CET
DTSTART;TZID=Europe/Berlin:19701025T030000
RRULE:FREQ=YEARLY;INTERVAL=1;BYDAY=-1SU;BYMONTH=10
END:STANDARD
END:VTIMEZONE
BEGIN:VEVENT
DTSTAMP:20260422T185539
DTSTART;TZID=Europe/Berlin:20260612T093000
DTEND;TZID=Europe/Berlin:20260612T103000
UID:Z25104-20260612T093000@VHSHOCKENHEIM
SUMMARY:Yoga auf dem Stuhl (Z25104) 
LOCATION:Fritz-Mannherz-Halle, Tanzraum, , 68799 Reilingen
END:VEVENT
BEGIN:VEVENT
DTSTAMP:20260422T185539
DTSTART;TZID=Europe/Berlin:20260619T093000
DTEND;TZID=Europe/Berlin:20260619T103000
UID:Z25104-20260619T093000@VHSHOCKENHEIM
SUMMARY:Yoga auf dem Stuhl (Z25104) 
LOCATION:Fritz-Mannherz-Halle, Tanzraum, , 68799 Reilingen
END:VEVENT
BEGIN:VEVENT
DTSTAMP:20260422T185539
DTSTART;TZID=Europe/Berlin:20260626T093000
DTEND;TZID=Europe/Berlin:20260626T103000
UID:Z25104-20260626T093000@VHSHOCKENHEIM
SUMMARY:Yoga auf dem Stuhl (Z25104) 
LOCATION:Fritz-Mannherz-Halle, Tanzraum, , 68799 Reilingen
END:VEVENT
BEGIN:VEVENT
DTSTAMP:20260422T185539
DTSTART;TZID=Europe/Berlin:20260710T093000
DTEND;TZID=Europe/Berlin:20260710T103000
UID:Z25104-20260710T093000@VHSHOCKENHEIM
SUMMARY:Yoga auf dem Stuhl (Z25104) 
LOCATION:Fritz-Mannherz-Halle, Tanzraum, , 68799 Reilingen
END:VEVENT
BEGIN:VEVENT
DTSTAMP:20260422T185539
DTSTART;TZID=Europe/Berlin:20260717T093000
DTEND;TZID=Europe/Berlin:20260717T103000
UID:Z25104-20260717T093000@VHSHOCKENHEIM
SUMMARY:Yoga auf dem Stuhl (Z25104) 
LOCATION:Fritz-Mannherz-Halle, Tanzraum, , 68799 Reilingen
END:VEVENT
BEGIN:VEVENT
DTSTAMP:20260422T185539
DTSTART;TZID=Europe/Berlin:20260724T093000
DTEND;TZID=Europe/Berlin:20260724T103000
UID:Z25104-20260724T093000@VHSHOCKENHEIM
SUMMARY:Yoga auf dem Stuhl (Z25104) 
LOCATION:Fritz-Mannherz-Halle, Tanzraum, , 68799 Reilingen
END:VEVENT
END:VCALENDAR