BEGIN:VCALENDAR
VERSION:2.0
PRODID:http://www.kufer.de/kuferweb / DE
METHOD:PUBLISH
CALSCALE:GREGORIAN
X-WR-TIMEZONE:Europe/Berlin
BEGIN:VTIMEZONE
TZID:Europe/Berlin
X-LIC-LOCATION:Europe/Berlin
BEGIN:DAYLIGHT
TZOFFSETFROM:+0100
TZOFFSETTO:+0200
TZNAME:CEST
DTSTART;TZID=Europe/Berlin:19700329T020000
RRULE:FREQ=YEARLY;INTERVAL=1;BYDAY=-1SU;BYMONTH=3
END:DAYLIGHT
BEGIN:STANDARD
TZOFFSETFROM:+0200
TZOFFSETTO:+0100
TZNAME:CET
DTSTART;TZID=Europe/Berlin:19701025T030000
RRULE:FREQ=YEARLY;INTERVAL=1;BYDAY=-1SU;BYMONTH=10
END:STANDARD
END:VTIMEZONE
BEGIN:VEVENT
DTSTAMP:20260422T185705
DTSTART;TZID=Europe/Berlin:20260427T200000
DTEND;TZID=Europe/Berlin:20260427T211500
UID:Z25003-20260427T200000@VHSHOCKENHEIM
SUMMARY:Hatha Yoga für Anfänger*innen und Fortgeschrittene (Z25003) 
LOCATION:Oase Fitness-Anlage Gymnastikraum, , 
END:VEVENT
BEGIN:VEVENT
DTSTAMP:20260422T185705
DTSTART;TZID=Europe/Berlin:20260504T200000
DTEND;TZID=Europe/Berlin:20260504T211500
UID:Z25003-20260504T200000@VHSHOCKENHEIM
SUMMARY:Hatha Yoga für Anfänger*innen und Fortgeschrittene (Z25003) 
LOCATION:Oase Fitness-Anlage Gymnastikraum, , 
END:VEVENT
BEGIN:VEVENT
DTSTAMP:20260422T185705
DTSTART;TZID=Europe/Berlin:20260511T200000
DTEND;TZID=Europe/Berlin:20260511T211500
UID:Z25003-20260511T200000@VHSHOCKENHEIM
SUMMARY:Hatha Yoga für Anfänger*innen und Fortgeschrittene (Z25003) 
LOCATION:Oase Fitness-Anlage Gymnastikraum, , 
END:VEVENT
BEGIN:VEVENT
DTSTAMP:20260422T185705
DTSTART;TZID=Europe/Berlin:20260518T200000
DTEND;TZID=Europe/Berlin:20260518T211500
UID:Z25003-20260518T200000@VHSHOCKENHEIM
SUMMARY:Hatha Yoga für Anfänger*innen und Fortgeschrittene (Z25003) 
LOCATION:Oase Fitness-Anlage Gymnastikraum, , 
END:VEVENT
BEGIN:VEVENT
DTSTAMP:20260422T185705
DTSTART;TZID=Europe/Berlin:20260601T200000
DTEND;TZID=Europe/Berlin:20260601T211500
UID:Z25003-20260601T200000@VHSHOCKENHEIM
SUMMARY:Hatha Yoga für Anfänger*innen und Fortgeschrittene (Z25003) 
LOCATION:Oase Fitness-Anlage Gymnastikraum, , 
END:VEVENT
BEGIN:VEVENT
DTSTAMP:20260422T185705
DTSTART;TZID=Europe/Berlin:20260608T200000
DTEND;TZID=Europe/Berlin:20260608T211500
UID:Z25003-20260608T200000@VHSHOCKENHEIM
SUMMARY:Hatha Yoga für Anfänger*innen und Fortgeschrittene (Z25003) 
LOCATION:Oase Fitness-Anlage Gymnastikraum, , 
END:VEVENT
BEGIN:VEVENT
DTSTAMP:20260422T185705
DTSTART;TZID=Europe/Berlin:20260615T200000
DTEND;TZID=Europe/Berlin:20260615T211500
UID:Z25003-20260615T200000@VHSHOCKENHEIM
SUMMARY:Hatha Yoga für Anfänger*innen und Fortgeschrittene (Z25003) 
LOCATION:Oase Fitness-Anlage Gymnastikraum, , 
END:VEVENT
BEGIN:VEVENT
DTSTAMP:20260422T185705
DTSTART;TZID=Europe/Berlin:20260622T200000
DTEND;TZID=Europe/Berlin:20260622T211500
UID:Z25003-20260622T200000@VHSHOCKENHEIM
SUMMARY:Hatha Yoga für Anfänger*innen und Fortgeschrittene (Z25003) 
LOCATION:Oase Fitness-Anlage Gymnastikraum, , 
END:VEVENT
BEGIN:VEVENT
DTSTAMP:20260422T185705
DTSTART;TZID=Europe/Berlin:20260629T200000
DTEND;TZID=Europe/Berlin:20260629T211500
UID:Z25003-20260629T200000@VHSHOCKENHEIM
SUMMARY:Hatha Yoga für Anfänger*innen und Fortgeschrittene (Z25003) 
LOCATION:Oase Fitness-Anlage Gymnastikraum, , 
END:VEVENT
BEGIN:VEVENT
DTSTAMP:20260422T185705
DTSTART;TZID=Europe/Berlin:20260706T200000
DTEND;TZID=Europe/Berlin:20260706T211500
UID:Z25003-20260706T200000@VHSHOCKENHEIM
SUMMARY:Hatha Yoga für Anfänger*innen und Fortgeschrittene (Z25003) 
LOCATION:Oase Fitness-Anlage Gymnastikraum, , 
END:VEVENT
BEGIN:VEVENT
DTSTAMP:20260422T185705
DTSTART;TZID=Europe/Berlin:20260713T200000
DTEND;TZID=Europe/Berlin:20260713T211500
UID:Z25003-20260713T200000@VHSHOCKENHEIM
SUMMARY:Hatha Yoga für Anfänger*innen und Fortgeschrittene (Z25003) 
LOCATION:Oase Fitness-Anlage Gymnastikraum, , 
END:VEVENT
BEGIN:VEVENT
DTSTAMP:20260422T185705
DTSTART;TZID=Europe/Berlin:20260720T200000
DTEND;TZID=Europe/Berlin:20260720T211500
UID:Z25003-20260720T200000@VHSHOCKENHEIM
SUMMARY:Hatha Yoga für Anfänger*innen und Fortgeschrittene (Z25003) 
LOCATION:Oase Fitness-Anlage Gymnastikraum, , 
END:VEVENT
BEGIN:VEVENT
DTSTAMP:20260422T185705
DTSTART;TZID=Europe/Berlin:20260727T200000
DTEND;TZID=Europe/Berlin:20260727T211500
UID:Z25003-20260727T200000@VHSHOCKENHEIM
SUMMARY:Hatha Yoga für Anfänger*innen und Fortgeschrittene (Z25003) 
LOCATION:Oase Fitness-Anlage Gymnastikraum, , 
END:VEVENT
BEGIN:VEVENT
DTSTAMP:20260422T185705
DTSTART;TZID=Europe/Berlin:20260803T200000
DTEND;TZID=Europe/Berlin:20260803T211500
UID:Z25003-20260803T200000@VHSHOCKENHEIM
SUMMARY:Hatha Yoga für Anfänger*innen und Fortgeschrittene (Z25003) 
LOCATION:Oase Fitness-Anlage Gymnastikraum, , 
END:VEVENT
END:VCALENDAR