BEGIN:VCALENDAR
VERSION:2.0
PRODID:http://www.kufer.de/kuferweb / DE
METHOD:PUBLISH
CALSCALE:GREGORIAN
X-WR-TIMEZONE:Europe/Berlin
BEGIN:VTIMEZONE
TZID:Europe/Berlin
X-LIC-LOCATION:Europe/Berlin
BEGIN:DAYLIGHT
TZOFFSETFROM:+0100
TZOFFSETTO:+0200
TZNAME:CEST
DTSTART;TZID=Europe/Berlin:19700329T020000
RRULE:FREQ=YEARLY;INTERVAL=1;BYDAY=-1SU;BYMONTH=3
END:DAYLIGHT
BEGIN:STANDARD
TZOFFSETFROM:+0200
TZOFFSETTO:+0100
TZNAME:CET
DTSTART;TZID=Europe/Berlin:19701025T030000
RRULE:FREQ=YEARLY;INTERVAL=1;BYDAY=-1SU;BYMONTH=10
END:STANDARD
END:VTIMEZONE
BEGIN:VEVENT
DTSTAMP:20260422T185705
DTSTART;TZID=Europe/Berlin:20260612T090000
DTEND;TZID=Europe/Berlin:20260612T101500
UID:Z25002-20260612T090000@VHSHOCKENHEIM
SUMMARY:Hatha-Yoga am Morgen für Anfänger*innen und Fortgeschrittene (Early Bird) (Z25002) 
LOCATION:Neues vhs Gebäude, Raum 2, EG, Gymnastik, Arndtstr. 2/2, 68766 Hockenheim
END:VEVENT
BEGIN:VEVENT
DTSTAMP:20260422T185705
DTSTART;TZID=Europe/Berlin:20260626T090000
DTEND;TZID=Europe/Berlin:20260626T101500
UID:Z25002-20260626T090000@VHSHOCKENHEIM
SUMMARY:Hatha-Yoga am Morgen für Anfänger*innen und Fortgeschrittene (Early Bird) (Z25002) 
LOCATION:Neues vhs Gebäude, Raum 2, EG, Gymnastik, Arndtstr. 2/2, 68766 Hockenheim
END:VEVENT
BEGIN:VEVENT
DTSTAMP:20260422T185705
DTSTART;TZID=Europe/Berlin:20260703T090000
DTEND;TZID=Europe/Berlin:20260703T101500
UID:Z25002-20260703T090000@VHSHOCKENHEIM
SUMMARY:Hatha-Yoga am Morgen für Anfänger*innen und Fortgeschrittene (Early Bird) (Z25002) 
LOCATION:Neues vhs Gebäude, Raum 2, EG, Gymnastik, Arndtstr. 2/2, 68766 Hockenheim
END:VEVENT
BEGIN:VEVENT
DTSTAMP:20260422T185705
DTSTART;TZID=Europe/Berlin:20260710T090000
DTEND;TZID=Europe/Berlin:20260710T101500
UID:Z25002-20260710T090000@VHSHOCKENHEIM
SUMMARY:Hatha-Yoga am Morgen für Anfänger*innen und Fortgeschrittene (Early Bird) (Z25002) 
LOCATION:Neues vhs Gebäude, Raum 2, EG, Gymnastik, Arndtstr. 2/2, 68766 Hockenheim
END:VEVENT
BEGIN:VEVENT
DTSTAMP:20260422T185705
DTSTART;TZID=Europe/Berlin:20260807T090000
DTEND;TZID=Europe/Berlin:20260807T101500
UID:Z25002-20260807T090000@VHSHOCKENHEIM
SUMMARY:Hatha-Yoga am Morgen für Anfänger*innen und Fortgeschrittene (Early Bird) (Z25002) 
LOCATION:Neues vhs Gebäude, Raum 2, EG, Gymnastik, Arndtstr. 2/2, 68766 Hockenheim
END:VEVENT
BEGIN:VEVENT
DTSTAMP:20260422T185705
DTSTART;TZID=Europe/Berlin:20260814T090000
DTEND;TZID=Europe/Berlin:20260814T101500
UID:Z25002-20260814T090000@VHSHOCKENHEIM
SUMMARY:Hatha-Yoga am Morgen für Anfänger*innen und Fortgeschrittene (Early Bird) (Z25002) 
LOCATION:Neues vhs Gebäude, Raum 2, EG, Gymnastik, Arndtstr. 2/2, 68766 Hockenheim
END:VEVENT
BEGIN:VEVENT
DTSTAMP:20260422T185705
DTSTART;TZID=Europe/Berlin:20260821T090000
DTEND;TZID=Europe/Berlin:20260821T101500
UID:Z25002-20260821T090000@VHSHOCKENHEIM
SUMMARY:Hatha-Yoga am Morgen für Anfänger*innen und Fortgeschrittene (Early Bird) (Z25002) 
LOCATION:Neues vhs Gebäude, Raum 2, EG, Gymnastik, Arndtstr. 2/2, 68766 Hockenheim
END:VEVENT
END:VCALENDAR