BEGIN:VCALENDAR
VERSION:2.0
PRODID:http://www.kufer.de/kuferweb / DE
METHOD:PUBLISH
CALSCALE:GREGORIAN
X-WR-TIMEZONE:Europe/Berlin
BEGIN:VTIMEZONE
TZID:Europe/Berlin
X-LIC-LOCATION:Europe/Berlin
BEGIN:DAYLIGHT
TZOFFSETFROM:+0100
TZOFFSETTO:+0200
TZNAME:CEST
DTSTART;TZID=Europe/Berlin:19700329T020000
RRULE:FREQ=YEARLY;INTERVAL=1;BYDAY=-1SU;BYMONTH=3
END:DAYLIGHT
BEGIN:STANDARD
TZOFFSETFROM:+0200
TZOFFSETTO:+0100
TZNAME:CET
DTSTART;TZID=Europe/Berlin:19701025T030000
RRULE:FREQ=YEARLY;INTERVAL=1;BYDAY=-1SU;BYMONTH=10
END:STANDARD
END:VTIMEZONE
BEGIN:VEVENT
DTSTAMP:20260422T185733
DTSTART;TZID=Europe/Berlin:20260618T163000
DTEND;TZID=Europe/Berlin:20260618T174500
UID:Z24004-20260618T163000@VHSHOCKENHEIM
SUMMARY:Sommerkurs: Tai Chi Qigong (Z24004) 
LOCATION:Neues vhs Gebäude, Raum 2, EG, Gymnastik, Arndtstr. 2/2, 68766 Hockenheim
END:VEVENT
BEGIN:VEVENT
DTSTAMP:20260422T185733
DTSTART;TZID=Europe/Berlin:20260625T163000
DTEND;TZID=Europe/Berlin:20260625T174500
UID:Z24004-20260625T163000@VHSHOCKENHEIM
SUMMARY:Sommerkurs: Tai Chi Qigong (Z24004) 
LOCATION:Neues vhs Gebäude, Raum 2, EG, Gymnastik, Arndtstr. 2/2, 68766 Hockenheim
END:VEVENT
BEGIN:VEVENT
DTSTAMP:20260422T185733
DTSTART;TZID=Europe/Berlin:20260702T163000
DTEND;TZID=Europe/Berlin:20260702T174500
UID:Z24004-20260702T163000@VHSHOCKENHEIM
SUMMARY:Sommerkurs: Tai Chi Qigong (Z24004) 
LOCATION:Neues vhs Gebäude, Raum 2, EG, Gymnastik, Arndtstr. 2/2, 68766 Hockenheim
END:VEVENT
BEGIN:VEVENT
DTSTAMP:20260422T185733
DTSTART;TZID=Europe/Berlin:20260709T163000
DTEND;TZID=Europe/Berlin:20260709T174500
UID:Z24004-20260709T163000@VHSHOCKENHEIM
SUMMARY:Sommerkurs: Tai Chi Qigong (Z24004) 
LOCATION:Neues vhs Gebäude, Raum 2, EG, Gymnastik, Arndtstr. 2/2, 68766 Hockenheim
END:VEVENT
BEGIN:VEVENT
DTSTAMP:20260422T185733
DTSTART;TZID=Europe/Berlin:20260716T163000
DTEND;TZID=Europe/Berlin:20260716T174500
UID:Z24004-20260716T163000@VHSHOCKENHEIM
SUMMARY:Sommerkurs: Tai Chi Qigong (Z24004) 
LOCATION:Neues vhs Gebäude, Raum 2, EG, Gymnastik, Arndtstr. 2/2, 68766 Hockenheim
END:VEVENT
BEGIN:VEVENT
DTSTAMP:20260422T185733
DTSTART;TZID=Europe/Berlin:20260723T163000
DTEND;TZID=Europe/Berlin:20260723T174500
UID:Z24004-20260723T163000@VHSHOCKENHEIM
SUMMARY:Sommerkurs: Tai Chi Qigong (Z24004) 
LOCATION:Neues vhs Gebäude, Raum 2, EG, Gymnastik, Arndtstr. 2/2, 68766 Hockenheim
END:VEVENT
BEGIN:VEVENT
DTSTAMP:20260422T185733
DTSTART;TZID=Europe/Berlin:20260730T163000
DTEND;TZID=Europe/Berlin:20260730T174500
UID:Z24004-20260730T163000@VHSHOCKENHEIM
SUMMARY:Sommerkurs: Tai Chi Qigong (Z24004) 
LOCATION:Neues vhs Gebäude, Raum 2, EG, Gymnastik, Arndtstr. 2/2, 68766 Hockenheim
END:VEVENT
BEGIN:VEVENT
DTSTAMP:20260422T185733
DTSTART;TZID=Europe/Berlin:20260806T163000
DTEND;TZID=Europe/Berlin:20260806T174500
UID:Z24004-20260806T163000@VHSHOCKENHEIM
SUMMARY:Sommerkurs: Tai Chi Qigong (Z24004) 
LOCATION:Neues vhs Gebäude, Raum 2, EG, Gymnastik, Arndtstr. 2/2, 68766 Hockenheim
END:VEVENT
BEGIN:VEVENT
DTSTAMP:20260422T185733
DTSTART;TZID=Europe/Berlin:20260813T163000
DTEND;TZID=Europe/Berlin:20260813T174500
UID:Z24004-20260813T163000@VHSHOCKENHEIM
SUMMARY:Sommerkurs: Tai Chi Qigong (Z24004) 
LOCATION:Neues vhs Gebäude, Raum 2, EG, Gymnastik, Arndtstr. 2/2, 68766 Hockenheim
END:VEVENT
END:VCALENDAR